BEGIN:VCALENDAR
VERSION:2.0
PRODID:-//Breathbalance - ECPv6.6.4//NONSGML v1.0//EN
CALSCALE:GREGORIAN
METHOD:PUBLISH
X-ORIGINAL-URL:https://www.breathbalance.it
X-WR-CALDESC:Eventi per Breathbalance
REFRESH-INTERVAL;VALUE=DURATION:PT1H
X-Robots-Tag:noindex
X-PUBLISHED-TTL:PT1H
BEGIN:VTIMEZONE
TZID:Europe/Rome
BEGIN:DAYLIGHT
TZOFFSETFROM:+0100
TZOFFSETTO:+0200
TZNAME:CEST
DTSTART:20230326T010000
END:DAYLIGHT
BEGIN:STANDARD
TZOFFSETFROM:+0200
TZOFFSETTO:+0100
TZNAME:CET
DTSTART:20231029T010000
END:STANDARD
END:VTIMEZONE
BEGIN:VEVENT
DTSTART;VALUE=DATE:20230318
DTEND;VALUE=DATE:20230320
DTSTAMP:20260422T093949
CREATED:20220509T193252Z
LAST-MODIFIED:20220926T201245Z
UID:990-1679097600-1679270399@www.breathbalance.it
SUMMARY:Anime in cammino
DESCRIPTION:Tutti noi nasciamo con un intento dell’Anima e con un progetto\, per i quali essere qui in questo momento: a volte ciò non ci è chiaro\, talaltra abbiamo come una intuizione\, ma spesso ne siamo ignari\, avendone solo una sensazione. Il nostro brancolare nell’incertezza\, nell’Ombra\, riverbera e si amplifica proprio nella relazione con gli altri\, in cui quello che vediamo di chi ci sta di fronte non è altro che uno specchio di noi stessi. \n“Anime in Cammino”\, tratta proprio questo: \n\ncome riconoscere il proprio progetto animico e individuare la risonanza con altre anime.\nil modo in cui ci relazioniamo con gli altri\ncome creare sane relazioni di coppia: coniugali\, amicali\, lavorative\n\nIl lavoro\, intensamente esperienziale\, svolto durante il corso\, ha proprio la forma della sperimentazione diretta\, del coinvolgimento partecipativo\, del toccare con mano come si è e come ci si relaziona all’Altro da Sé in qualunque relazione a due. \nDocenti: Dott. Alfonso Guizzardi e Dott.ssa Nicoletta Ferroni \nLuogo:  “IL GIARDINO DELLE MERAVIGLIE” (www.giardinomeraviglie.it) Amelia\, Terni. \nQuando\, dal Sabato 3 dicembre 2019 ore 10.00 alla domenica 4 dicembre 2019 ore 17.00. \nCosto di partecipazione: 270 € \nIl corso permette di ricevere 32 ECP SIAF riconosciuti con codice PVI-007/168/19
URL:https://www.breathbalance.it/evento/anime-in-cammino-edizione-umbria/
LOCATION:Roma\, Italia
ATTACH;FMTTYPE=image/jpeg:https://www.breathbalance.it/wp-content/uploads/2021/06/56b7e21f8ece8b099ce6230965433c75.jpg
END:VEVENT
END:VCALENDAR